BEGIN:VCALENDAR
VERSION:2.0
PRODID:DPCALENDAR
CALSCALE:GREGORIAN
X-WR-TIMEZONE:UTC
BEGIN:VEVENT
DTSTART;VALUE=DATE:20260621
DTEND;VALUE=DATE:20260622
RRULE:FREQ=YEARLY;INTERVAL=1;UNTIL=20500122T235900Z
UID:0E04B59C-4A81-46E9-956D-3927728D43DF
SUMMARY:Megan and Zach Arthur Anniversary
CREATED:20251122T060924Z
DTSTAMP:20251122T060924Z
URL:https://wendyarthur.com/index.php/calender/megan-and-zach-arthur-anniversary
LAST-MODIFIED:20251122T061441Z
SEQUENCE:317
LOCATION:Cherokee Ridge Court\, 37604 Johnson City\, Tennessee\, United States
GEO:36.28801560;-82.36863370
X-LOCATION-DISPLAYNAME:Cherokee Ridge Court
X-ACCESS:1
X-HITS:11
X-COLOR:cc33b5
X-SHOW-END-TIME:1
END:VEVENT
END:VCALENDAR